BEGIN:VCALENDAR
VERSION:2.0
PRODID:-//Hemsworth Estate - ECPv6.15.12.2//NONSGML v1.0//EN
CALSCALE:GREGORIAN
METHOD:PUBLISH
X-ORIGINAL-URL:https://www.hemsworthestate.co.nz
X-WR-CALDESC:Events for Hemsworth Estate
REFRESH-INTERVAL;VALUE=DURATION:PT1H
X-Robots-Tag:noindex
X-PUBLISHED-TTL:PT1H
BEGIN:VTIMEZONE
TZID:Pacific/Auckland
BEGIN:STANDARD
TZOFFSETFROM:+1300
TZOFFSETTO:+1200
TZNAME:NZST
DTSTART:20250405T140000
END:STANDARD
BEGIN:DAYLIGHT
TZOFFSETFROM:+1200
TZOFFSETTO:+1300
TZNAME:NZDT
DTSTART:20250927T140000
END:DAYLIGHT
BEGIN:STANDARD
TZOFFSETFROM:+1300
TZOFFSETTO:+1200
TZNAME:NZST
DTSTART:20260404T140000
END:STANDARD
BEGIN:DAYLIGHT
TZOFFSETFROM:+1200
TZOFFSETTO:+1300
TZNAME:NZDT
DTSTART:20260926T140000
END:DAYLIGHT
BEGIN:STANDARD
TZOFFSETFROM:+1300
TZOFFSETTO:+1200
TZNAME:NZST
DTSTART:20270403T140000
END:STANDARD
BEGIN:DAYLIGHT
TZOFFSETFROM:+1200
TZOFFSETTO:+1300
TZNAME:NZDT
DTSTART:20270925T140000
END:DAYLIGHT
END:VTIMEZONE
BEGIN:VEVENT
DTSTART;TZID=Pacific/Auckland:20260516T140000
DTEND;TZID=Pacific/Auckland:20260516T163000
DTSTAMP:20260421T232823
CREATED:20260420T213802Z
LAST-MODIFIED:20260420T214523Z
UID:8552-1778940000-1778949000@www.hemsworthestate.co.nz
SUMMARY:Dog-Mum's High Tea
DESCRIPTION:We invite you and your dogs to a very special Mother’s Day High Tea – for dog mums! This is the perfect setting in our Ashburton for celebrating and creating new memories with the incredible four-legged children in your life. \nStarting at 2:00pm\, you’ll be treated to bubbles\, a progressive High Tea (both savoury and sweet) featuring mouth-watering morsels made fresh in our kitchen\, and your furry companion will be treated to their own cake tier full of Raw and Natural Dog Treats. Sip tea out of fine china\, get cozy by the fire and enjoy cuddling up with your fur-child. \nThis particular high tea is different to our other ones\, as each table will most likely have a dog at it. This event is best for dogs who are comfortable in an indoor social environment\, where other dogs are present. Tickets will be more limited than our usual high teas to allow for enough space. \nBook your table now\, this is the only High Tea for dogs in New Zealand and it will sell out fast! \n\nHigh Tea Includes: \n\nA glass of bubbles (or non alcoholic cocktail alternative)\n5 mouth-watering savoury selections\n4 seasonal sweet treats\nFreshly made scones with jam and cream\nA luxury table setting including vintage linen\, bone china and Stirling silverware.\n\nHigh Tea for dogs includes: \n\nA separate cake tier of dog treats – all raw\, natural or homemade by Best Buddies.\nTheir own napkin\nA carob dog-safe hot chocolate\nDepending on size\, their own table.\n\n\n\nWhat people say: \n“The coolest high tea experience in New Zealand Because you get to bring your dog!” – Escape Video \n“Absolutely gorgeous! We had a great night away with our little dog and it was everything we hoped\, the high tea was fabulous and breakfast was delish! Felt super welcomed and the house was stunning. Highly recommend!” – Lois Stone \n“We can’t think of a nicer overall experience that we’ve had recently that could be better than Hemsworth Estate. Rebecca and Jema were lovely\, having the run of the grand villa in the evening was a luxury\, the dog friendly-ness of the place was just so wonderful. We booked this as a treat for us and our dog and it absolutely delivered. We would also highly recommend the high tea (people and dog friendly!) and would 100% book again in the future.”– Carli Edgar \n“High Tea at Hemsworth Estate is a real treat. Beautiful setting. Delicious food. Something a bit different to try and well worth it.” – Phillipa Young \nTicket Pricing:\nHigh Tea with a Champagne Cocktail or Mocktail – 49\nChildren’s High Tea for ages 4-12 years old – 25\nDog’s High Tea – 20\nLimited seating available. \n\n\n\n\n\nEvent Information:\nDietary Requirements are welcome with advanced notice\, please include this information with your booking.\nBy purchasing tickets\, you agree to our terms and conditions.\nChildren are also welcome at any age. Please let us know when booking if you require a High Chair.\n\nHave questions about this event? We would be happy to answer them. Please contact us\, or check out our FAQ.\nPhoto credit: Escape Video
URL:https://www.hemsworthestate.co.nz/event/dogmumshightea/
LOCATION:Hemsworth Estate\, 356 Beach Road East\, Ashburton\, 7777\, New Zealand
ATTACH;FMTTYPE=image/png:https://www.hemsworthestate.co.nz/wp-content/uploads/2026/04/Hemsworth-Events-Social-45-4.png
ORGANIZER;CN="Hemsworth Estate":MAILTO:create@hemsworthestate.co.nz
END:VEVENT
END:VCALENDAR